BEGIN:VCALENDAR
VERSION:2.0
PRODID:-//Malvern Civic Society - ECPv6.15.20//NONSGML v1.0//EN
CALSCALE:GREGORIAN
METHOD:PUBLISH
X-ORIGINAL-URL:https://www.malverncivicsociety.org.uk
X-WR-CALDESC:Events for Malvern Civic Society
REFRESH-INTERVAL;VALUE=DURATION:PT1H
X-Robots-Tag:noindex
X-PUBLISHED-TTL:PT1H
BEGIN:VTIMEZONE
TZID:Europe/London
BEGIN:DAYLIGHT
TZOFFSETFROM:+0000
TZOFFSETTO:+0100
TZNAME:BST
DTSTART:20250330T010000
END:DAYLIGHT
BEGIN:STANDARD
TZOFFSETFROM:+0100
TZOFFSETTO:+0000
TZNAME:GMT
DTSTART:20251026T010000
END:STANDARD
BEGIN:DAYLIGHT
TZOFFSETFROM:+0000
TZOFFSETTO:+0100
TZNAME:BST
DTSTART:20260329T010000
END:DAYLIGHT
BEGIN:STANDARD
TZOFFSETFROM:+0100
TZOFFSETTO:+0000
TZNAME:GMT
DTSTART:20261025T010000
END:STANDARD
BEGIN:DAYLIGHT
TZOFFSETFROM:+0000
TZOFFSETTO:+0100
TZNAME:BST
DTSTART:20270328T010000
END:DAYLIGHT
BEGIN:STANDARD
TZOFFSETFROM:+0100
TZOFFSETTO:+0000
TZNAME:GMT
DTSTART:20271031T010000
END:STANDARD
END:VTIMEZONE
BEGIN:VEVENT
DTSTART;TZID=Europe/London:20260121T133000
DTEND;TZID=Europe/London:20260121T160000
DTSTAMP:20260421T150314
CREATED:20251217T112011Z
LAST-MODIFIED:20260222T114243Z
UID:10000512-1769002200-1769011200@www.malverncivicsociety.org.uk
SUMMARY:Visit to Nicholson Organs
DESCRIPTION:Guided tour of this 200 year old company’s latest pipe organ facilities. Nicholson products are to be found in the Witley Court Chapel St Mary’s Madresfield and Malvern Priory. \n\n\n\nNumber of places 15 \n\n\n\nOwn transport or car share \n\n\n\nLed by Katharine Barber
URL:https://www.malverncivicsociety.org.uk/event/visit-to-nicholson-organs/
LOCATION:Nicholson Organs\, Lower Interfields\, Malvern\, WR14 !UU
CATEGORIES:Visits
END:VEVENT
END:VCALENDAR