BEGIN:VCALENDAR
VERSION:2.0
PRODID:-//Malvern Civic Society - ECPv6.15.20//NONSGML v1.0//EN
CALSCALE:GREGORIAN
METHOD:PUBLISH
X-WR-CALNAME:Malvern Civic Society
X-ORIGINAL-URL:https://www.malverncivicsociety.org.uk
X-WR-CALDESC:Events for Malvern Civic Society
REFRESH-INTERVAL;VALUE=DURATION:PT1H
X-Robots-Tag:noindex
X-PUBLISHED-TTL:PT1H
BEGIN:VTIMEZONE
TZID:Europe/London
BEGIN:DAYLIGHT
TZOFFSETFROM:+0000
TZOFFSETTO:+0100
TZNAME:BST
DTSTART:20240331T010000
END:DAYLIGHT
BEGIN:STANDARD
TZOFFSETFROM:+0100
TZOFFSETTO:+0000
TZNAME:GMT
DTSTART:20241027T010000
END:STANDARD
BEGIN:DAYLIGHT
TZOFFSETFROM:+0000
TZOFFSETTO:+0100
TZNAME:BST
DTSTART:20250330T010000
END:DAYLIGHT
BEGIN:STANDARD
TZOFFSETFROM:+0100
TZOFFSETTO:+0000
TZNAME:GMT
DTSTART:20251026T010000
END:STANDARD
BEGIN:DAYLIGHT
TZOFFSETFROM:+0000
TZOFFSETTO:+0100
TZNAME:BST
DTSTART:20260329T010000
END:DAYLIGHT
BEGIN:STANDARD
TZOFFSETFROM:+0100
TZOFFSETTO:+0000
TZNAME:GMT
DTSTART:20261025T010000
END:STANDARD
END:VTIMEZONE
BEGIN:VEVENT
DTSTART;TZID=Europe/London:20251231T000000
DTEND;TZID=Europe/London:20251231T123000
DTSTAMP:20260421T163515
CREATED:20251128T152554Z
LAST-MODIFIED:20251231T115842Z
UID:10000511-1767139200-1767184200@www.malverncivicsociety.org.uk
SUMMARY:Great Malvern Heritage Walks
DESCRIPTION:Step into the festive spirit with Great Malvern Heritage Walks. Led by experienced Civic Society guides\, these special Christmas Walks are the perfect way to show visiting friends and families the very best of the town while enjoying fresh air and exercise. Discover Great Malvern’s rich heritage\, from its world famous water cure to its stunning Victorian architecture and charming hidden corners. Relaxed and informative\, our tours offer a unique way to walk off that Christmas dinner and experience the magic of Malvern. \n\n\n\nTours start from the Tourist Information Centre\, Church Street\, Malvern at 1100 on 27th\, 29\, 30th and 31 December. Tickets are available at £7 from TIC or TIC phoneline 01684892289 or Ticketsource online.  Tickets are sometimes available from the TIC even when sold out on Ticketsource. \n\n\n\nDue to the content of the tours and the hilly nature of Malvern\, these walks are not suitable for children under 14 years\, or for anyone with mobility issues.
URL:https://www.malverncivicsociety.org.uk/event/great-malvern-heritage-walks/2025-12-31/
LOCATION:Malvern Tourist Information Centre\, 6 Church Street\, Malvern\, WR14 2AY\, United Kingdom
CATEGORIES:Great Malvern Heritage Walk
END:VEVENT
BEGIN:VEVENT
DTSTART;TZID=Europe/London:20251230T000000
DTEND;TZID=Europe/London:20251230T123000
DTSTAMP:20260421T163515
CREATED:20251128T152554Z
LAST-MODIFIED:20251231T115842Z
UID:10000510-1767052800-1767097800@www.malverncivicsociety.org.uk
SUMMARY:Great Malvern Heritage Walks
DESCRIPTION:Step into the festive spirit with Great Malvern Heritage Walks. Led by experienced Civic Society guides\, these special Christmas Walks are the perfect way to show visiting friends and families the very best of the town while enjoying fresh air and exercise. Discover Great Malvern’s rich heritage\, from its world famous water cure to its stunning Victorian architecture and charming hidden corners. Relaxed and informative\, our tours offer a unique way to walk off that Christmas dinner and experience the magic of Malvern. \n\n\n\nTours start from the Tourist Information Centre\, Church Street\, Malvern at 1100 on 27th\, 29\, 30th and 31 December. Tickets are available at £7 from TIC or TIC phoneline 01684892289 or Ticketsource online.  Tickets are sometimes available from the TIC even when sold out on Ticketsource. \n\n\n\nDue to the content of the tours and the hilly nature of Malvern\, these walks are not suitable for children under 14 years\, or for anyone with mobility issues.
URL:https://www.malverncivicsociety.org.uk/event/great-malvern-heritage-walks/2025-12-30/
LOCATION:Malvern Tourist Information Centre\, 6 Church Street\, Malvern\, WR14 2AY\, United Kingdom
CATEGORIES:Great Malvern Heritage Walk
END:VEVENT
BEGIN:VEVENT
DTSTART;TZID=Europe/London:20251229T110000
DTEND;TZID=Europe/London:20251229T170000
DTSTAMP:20260421T163515
CREATED:20251128T152554Z
LAST-MODIFIED:20251231T115842Z
UID:10000509-1767006000-1767027600@www.malverncivicsociety.org.uk
SUMMARY:Great Malvern Heritage Walks
DESCRIPTION:Step into the festive spirit with Great Malvern Heritage Walks. Led by experienced Civic Society guides\, these special Christmas Walks are the perfect way to show visiting friends and families the very best of the town while enjoying fresh air and exercise. Discover Great Malvern’s rich heritage\, from its world famous water cure to its stunning Victorian architecture and charming hidden corners. Relaxed and informative\, our tours offer a unique way to walk off that Christmas dinner and experience the magic of Malvern. \n\n\n\nTours start from the Tourist Information Centre\, Church Street\, Malvern at 1100 on 27th\, 29\, 30th and 31 December. Tickets are available at £7 from TIC or TIC phoneline 01684892289 or Ticketsource online.  Tickets are sometimes available from the TIC even when sold out on Ticketsource. \n\n\n\nDue to the content of the tours and the hilly nature of Malvern\, these walks are not suitable for children under 14 years\, or for anyone with mobility issues.
URL:https://www.malverncivicsociety.org.uk/event/great-malvern-heritage-walks/2025-12-29/
LOCATION:Malvern Tourist Information Centre\, 6 Church Street\, Malvern\, WR14 2AY\, United Kingdom
CATEGORIES:Great Malvern Heritage Walk
END:VEVENT
BEGIN:VEVENT
DTSTART;TZID=Europe/London:20251227T110000
DTEND;TZID=Europe/London:20251227T170000
DTSTAMP:20260421T163515
CREATED:20251128T152554Z
LAST-MODIFIED:20251231T115842Z
UID:10000508-1766833200-1766854800@www.malverncivicsociety.org.uk
SUMMARY:Great Malvern Heritage Walks
DESCRIPTION:Step into the festive spirit with Great Malvern Heritage Walks. Led by experienced Civic Society guides\, these special Christmas Walks are the perfect way to show visiting friends and families the very best of the town while enjoying fresh air and exercise. Discover Great Malvern’s rich heritage\, from its world famous water cure to its stunning Victorian architecture and charming hidden corners. Relaxed and informative\, our tours offer a unique way to walk off that Christmas dinner and experience the magic of Malvern. \n\n\n\nTours start from the Tourist Information Centre\, Church Street\, Malvern at 1100 on 27th\, 29\, 30th and 31 December. Tickets are available at £7 from TIC or TIC phoneline 01684892289 or Ticketsource online.  Tickets are sometimes available from the TIC even when sold out on Ticketsource. \n\n\n\nDue to the content of the tours and the hilly nature of Malvern\, these walks are not suitable for children under 14 years\, or for anyone with mobility issues.
URL:https://www.malverncivicsociety.org.uk/event/great-malvern-heritage-walks/2025-12-27/
LOCATION:Malvern Tourist Information Centre\, 6 Church Street\, Malvern\, WR14 2AY\, United Kingdom
CATEGORIES:Great Malvern Heritage Walk
END:VEVENT
END:VCALENDAR