BEGIN:VCALENDAR
VERSION:2.0
PRODID:-//Malvern Civic Society - ECPv6.15.20//NONSGML v1.0//EN
CALSCALE:GREGORIAN
METHOD:PUBLISH
X-WR-CALNAME:Malvern Civic Society
X-ORIGINAL-URL:https://www.malverncivicsociety.org.uk
X-WR-CALDESC:Events for Malvern Civic Society
REFRESH-INTERVAL;VALUE=DURATION:PT1H
X-Robots-Tag:noindex
X-PUBLISHED-TTL:PT1H
BEGIN:VTIMEZONE
TZID:Europe/London
BEGIN:DAYLIGHT
TZOFFSETFROM:+0000
TZOFFSETTO:+0100
TZNAME:BST
DTSTART:20250330T010000
END:DAYLIGHT
BEGIN:STANDARD
TZOFFSETFROM:+0100
TZOFFSETTO:+0000
TZNAME:GMT
DTSTART:20251026T010000
END:STANDARD
BEGIN:DAYLIGHT
TZOFFSETFROM:+0000
TZOFFSETTO:+0100
TZNAME:BST
DTSTART:20260329T010000
END:DAYLIGHT
BEGIN:STANDARD
TZOFFSETFROM:+0100
TZOFFSETTO:+0000
TZNAME:GMT
DTSTART:20261025T010000
END:STANDARD
BEGIN:DAYLIGHT
TZOFFSETFROM:+0000
TZOFFSETTO:+0100
TZNAME:BST
DTSTART:20270328T010000
END:DAYLIGHT
BEGIN:STANDARD
TZOFFSETFROM:+0100
TZOFFSETTO:+0000
TZNAME:GMT
DTSTART:20271031T010000
END:STANDARD
END:VTIMEZONE
BEGIN:VEVENT
DTSTART;TZID=Europe/London:20261113T193000
DTEND;TZID=Europe/London:20261113T210000
DTSTAMP:20260421T150303
CREATED:20260122T092607Z
LAST-MODIFIED:20260122T092609Z
UID:10000652-1794598200-1794603600@www.malverncivicsociety.org.uk
SUMMARY:Talk: Caring for the Hills and Commons.
DESCRIPTION:To be given by The Malvern Hills Trust \n\n\n\nLooking at the Trust’s Land Management Plan and ambitions for the next five years. \n\n\n\nDoors open at 6.30 for refreshments with the talk following at 7.30pm. Booking not required.
URL:https://www.malverncivicsociety.org.uk/event/talk-caring-for-the-hills-and-commons/
LOCATION:Eden Centre\, Eden Centre\, Grovewood Road\, Malvern\, United Kingdom
CATEGORIES:Talks
END:VEVENT
END:VCALENDAR