BEGIN:VCALENDAR
VERSION:2.0
PRODID:-//Malvern Civic Society - ECPv6.15.20//NONSGML v1.0//EN
CALSCALE:GREGORIAN
METHOD:PUBLISH
X-WR-CALNAME:Malvern Civic Society
X-ORIGINAL-URL:https://www.malverncivicsociety.org.uk
X-WR-CALDESC:Events for Malvern Civic Society
REFRESH-INTERVAL;VALUE=DURATION:PT1H
X-Robots-Tag:noindex
X-PUBLISHED-TTL:PT1H
BEGIN:VTIMEZONE
TZID:Europe/London
BEGIN:DAYLIGHT
TZOFFSETFROM:+0000
TZOFFSETTO:+0100
TZNAME:BST
DTSTART:20230326T010000
END:DAYLIGHT
BEGIN:STANDARD
TZOFFSETFROM:+0100
TZOFFSETTO:+0000
TZNAME:GMT
DTSTART:20231029T010000
END:STANDARD
BEGIN:DAYLIGHT
TZOFFSETFROM:+0000
TZOFFSETTO:+0100
TZNAME:BST
DTSTART:20240331T010000
END:DAYLIGHT
BEGIN:STANDARD
TZOFFSETFROM:+0100
TZOFFSETTO:+0000
TZNAME:GMT
DTSTART:20241027T010000
END:STANDARD
BEGIN:DAYLIGHT
TZOFFSETFROM:+0000
TZOFFSETTO:+0100
TZNAME:BST
DTSTART:20250330T010000
END:DAYLIGHT
BEGIN:STANDARD
TZOFFSETFROM:+0100
TZOFFSETTO:+0000
TZNAME:GMT
DTSTART:20251026T010000
END:STANDARD
END:VTIMEZONE
BEGIN:VEVENT
DTSTART;TZID=Europe/London:20240415T103000
DTEND;TZID=Europe/London:20240415T120000
DTSTAMP:20260425T152313
CREATED:20240204T154040Z
LAST-MODIFIED:20240807T144606Z
UID:10000058-1713177000-1713182400@www.malverncivicsociety.org.uk
SUMMARY:Malvern Town Walk
DESCRIPTION:There are weekly town walks around Great Malvern from Easter to Autumn. They set off from the Tourist Information Centre (TIC) at 10.30am on Monday and Saturday mornings. The fee is £7 per person\, and tickets are available from the TIC. \n\n\n\nPlease be aware that Great Malvern is a hillside town and our tour follows its steep gradients and steps along narrow pavements. \n\n\n\nIf you have a disability that requires support from a carer\, the carer goes free.  Children under 16 and vulnerable adults should be accompanied by an appropriate adult.  If you are under 16 or the carer of a vulnerable adult\, there is no charge.   \n\n\n\nA limited number of tickets are also available via TicketSource up to 8.00am on Monday for the Monday walks and noon on Friday for Saturday walks). Tickets booked via TicketSource incur a small fee.  If TicketSource shows ticket as sold out\, tickets may still be available from the Tourist Information Centre. \n\n\n\nAs group sizes are limited\, booking in advance is recommended to avoid disappointment.
URL:https://www.malverncivicsociety.org.uk/event/malvern-town-walk-2/2024-04-15/
LOCATION:Tourist Information Centre\, Malvern Tourist Information Centre\, 6 Church Steet\, Malvern\, WR14 2AY\, United Kingdom
CATEGORIES:Great Malvern Heritage Walk
END:VEVENT
BEGIN:VEVENT
DTSTART;TZID=Europe/London:20240413T103000
DTEND;TZID=Europe/London:20240413T120000
DTSTAMP:20260425T152313
CREATED:20240204T154040Z
LAST-MODIFIED:20240807T144606Z
UID:10000099-1713004200-1713009600@www.malverncivicsociety.org.uk
SUMMARY:Malvern Town Walk
DESCRIPTION:There are weekly town walks around Great Malvern from Easter to Autumn. They set off from the Tourist Information Centre (TIC) at 10.30am on Monday and Saturday mornings. The fee is £7 per person\, and tickets are available from the TIC. \n\n\n\nPlease be aware that Great Malvern is a hillside town and our tour follows its steep gradients and steps along narrow pavements. \n\n\n\nIf you have a disability that requires support from a carer\, the carer goes free.  Children under 16 and vulnerable adults should be accompanied by an appropriate adult.  If you are under 16 or the carer of a vulnerable adult\, there is no charge.   \n\n\n\nA limited number of tickets are also available via TicketSource up to 8.00am on Monday for the Monday walks and noon on Friday for Saturday walks). Tickets booked via TicketSource incur a small fee.  If TicketSource shows ticket as sold out\, tickets may still be available from the Tourist Information Centre. \n\n\n\nAs group sizes are limited\, booking in advance is recommended to avoid disappointment.
URL:https://www.malverncivicsociety.org.uk/event/malvern-town-walk-2/2024-04-13/
LOCATION:Tourist Information Centre\, Malvern Tourist Information Centre\, 6 Church Steet\, Malvern\, WR14 2AY\, United Kingdom
CATEGORIES:Great Malvern Heritage Walk
END:VEVENT
BEGIN:VEVENT
DTSTART;TZID=Europe/London:20240412T193000
DTEND;TZID=Europe/London:20240412T193000
DTSTAMP:20260425T152313
CREATED:20240112T162640Z
LAST-MODIFIED:20240208T170629Z
UID:10000006-1712950200-1712950200@www.malverncivicsociety.org.uk
SUMMARY:Talk: John Whitgift\, Bishop of Worcester and Archbishop of Canterbury
DESCRIPTION:To be given by Christopher Barnett \n\n\n\nJohn Whitgift was a famous Bishop of Worcester and Archbishop of Canterbury\, whose life gives many fascinating\, and often surprising\, insights into society\, religion and politics in the second half of the sixteenth century. This talk\, which includes a large number of illustrations\, explores Whitgift’s life and times\, and his impact both locally\, in Worcestershire and the Welsh Marches\, and on many aspects of national life.
URL:https://www.malverncivicsociety.org.uk/event/talk-john-whitgift-bishop-of-worcester/
LOCATION:Eden Centre\, Eden Centre\, Grovewood Road\, Malvern\, United Kingdom
CATEGORIES:Talks
END:VEVENT
BEGIN:VEVENT
DTSTART;TZID=Europe/London:20240408T103000
DTEND;TZID=Europe/London:20240408T120000
DTSTAMP:20260425T152313
CREATED:20240204T154040Z
LAST-MODIFIED:20240807T144606Z
UID:10000057-1712572200-1712577600@www.malverncivicsociety.org.uk
SUMMARY:Malvern Town Walk
DESCRIPTION:There are weekly town walks around Great Malvern from Easter to Autumn. They set off from the Tourist Information Centre (TIC) at 10.30am on Monday and Saturday mornings. The fee is £7 per person\, and tickets are available from the TIC. \n\n\n\nPlease be aware that Great Malvern is a hillside town and our tour follows its steep gradients and steps along narrow pavements. \n\n\n\nIf you have a disability that requires support from a carer\, the carer goes free.  Children under 16 and vulnerable adults should be accompanied by an appropriate adult.  If you are under 16 or the carer of a vulnerable adult\, there is no charge.   \n\n\n\nA limited number of tickets are also available via TicketSource up to 8.00am on Monday for the Monday walks and noon on Friday for Saturday walks). Tickets booked via TicketSource incur a small fee.  If TicketSource shows ticket as sold out\, tickets may still be available from the Tourist Information Centre. \n\n\n\nAs group sizes are limited\, booking in advance is recommended to avoid disappointment.
URL:https://www.malverncivicsociety.org.uk/event/malvern-town-walk-2/2024-04-08/
LOCATION:Tourist Information Centre\, Malvern Tourist Information Centre\, 6 Church Steet\, Malvern\, WR14 2AY\, United Kingdom
CATEGORIES:Great Malvern Heritage Walk
END:VEVENT
BEGIN:VEVENT
DTSTART;TZID=Europe/London:20240406T103000
DTEND;TZID=Europe/London:20240406T120000
DTSTAMP:20260425T152313
CREATED:20240204T154040Z
LAST-MODIFIED:20240807T144606Z
UID:10000098-1712399400-1712404800@www.malverncivicsociety.org.uk
SUMMARY:Malvern Town Walk
DESCRIPTION:There are weekly town walks around Great Malvern from Easter to Autumn. They set off from the Tourist Information Centre (TIC) at 10.30am on Monday and Saturday mornings. The fee is £7 per person\, and tickets are available from the TIC. \n\n\n\nPlease be aware that Great Malvern is a hillside town and our tour follows its steep gradients and steps along narrow pavements. \n\n\n\nIf you have a disability that requires support from a carer\, the carer goes free.  Children under 16 and vulnerable adults should be accompanied by an appropriate adult.  If you are under 16 or the carer of a vulnerable adult\, there is no charge.   \n\n\n\nA limited number of tickets are also available via TicketSource up to 8.00am on Monday for the Monday walks and noon on Friday for Saturday walks). Tickets booked via TicketSource incur a small fee.  If TicketSource shows ticket as sold out\, tickets may still be available from the Tourist Information Centre. \n\n\n\nAs group sizes are limited\, booking in advance is recommended to avoid disappointment.
URL:https://www.malverncivicsociety.org.uk/event/malvern-town-walk-2/2024-04-06/
LOCATION:Tourist Information Centre\, Malvern Tourist Information Centre\, 6 Church Steet\, Malvern\, WR14 2AY\, United Kingdom
CATEGORIES:Great Malvern Heritage Walk
END:VEVENT
BEGIN:VEVENT
DTSTART;TZID=Europe/London:20240405T100000
DTEND;TZID=Europe/London:20240405T110000
DTSTAMP:20260425T152313
CREATED:20240117T185621Z
LAST-MODIFIED:20240120T121545Z
UID:10000019-1712311200-1712314800@www.malverncivicsociety.org.uk
SUMMARY:Social: Morning Coffee / Breakfast at The Lyttelton Well
DESCRIPTION:Watch the hustle and bustle of Church Street whilst enjoying the company of friends and indulging in a full menu of breakfast delights.
URL:https://www.malverncivicsociety.org.uk/event/social-morning-coffee-breakfast-at-the-lyttelton-well/
LOCATION:The Lyttelton Well\, The Lyttelton Well\, 6 Church Street\, Malvern\, WR14 2AY\, United Kingdom
CATEGORIES:Socials
END:VEVENT
BEGIN:VEVENT
DTSTART;TZID=Europe/London:20240401T103000
DTEND;TZID=Europe/London:20240401T120000
DTSTAMP:20260425T152313
CREATED:20240204T154040Z
LAST-MODIFIED:20240807T144606Z
UID:10000044-1711967400-1711972800@www.malverncivicsociety.org.uk
SUMMARY:Malvern Town Walk
DESCRIPTION:There are weekly town walks around Great Malvern from Easter to Autumn. They set off from the Tourist Information Centre (TIC) at 10.30am on Monday and Saturday mornings. The fee is £7 per person\, and tickets are available from the TIC. \n\n\n\nPlease be aware that Great Malvern is a hillside town and our tour follows its steep gradients and steps along narrow pavements. \n\n\n\nIf you have a disability that requires support from a carer\, the carer goes free.  Children under 16 and vulnerable adults should be accompanied by an appropriate adult.  If you are under 16 or the carer of a vulnerable adult\, there is no charge.   \n\n\n\nA limited number of tickets are also available via TicketSource up to 8.00am on Monday for the Monday walks and noon on Friday for Saturday walks). Tickets booked via TicketSource incur a small fee.  If TicketSource shows ticket as sold out\, tickets may still be available from the Tourist Information Centre. \n\n\n\nAs group sizes are limited\, booking in advance is recommended to avoid disappointment.
URL:https://www.malverncivicsociety.org.uk/event/malvern-town-walk-2/2024-04-01/
LOCATION:Tourist Information Centre\, Malvern Tourist Information Centre\, 6 Church Steet\, Malvern\, WR14 2AY\, United Kingdom
CATEGORIES:Great Malvern Heritage Walk
END:VEVENT
BEGIN:VEVENT
DTSTART;TZID=Europe/London:20240326T110000
DTEND;TZID=Europe/London:20240326T160000
DTSTAMP:20260425T152313
CREATED:20240115T153259Z
LAST-MODIFIED:20240115T153827Z
UID:10000009-1711450800-1711468800@www.malverncivicsociety.org.uk
SUMMARY:Local Visit: A History of Medicine in Worcester
DESCRIPTION:We will visit the Cathedral Library to see its collection of ancient manuscripts\, followed\, with kind permission of the Vice Chancellor\, by a ‘behind the scenes’ tour of the old Boardroom at the University\, where the British Medical Association was founded in 1832\, the Jenny Lind Chapel and the medical museum. During the tour\, Prof Richard Lewis will tell us about the history of medicine in Worcester over the centuries\, using the paintings and artifacts which we will see. \nNB: the Cathedral Library is accessed by a medieval staircase of forty-six steps\, and we are advised that it is not suitable for those with mobility issues\, a heart condition or severe asthma. \n\n\n\nOwn transport / car share or rail option (Foregate St is nearest station). \nLunch at own cost in Cathedral café.
URL:https://www.malverncivicsociety.org.uk/event/local-visit-a-history-of-medicine-in-worcester/
LOCATION:Worcester Cathedral\, Worcester Cathedral\, 8 College Yard\, Worcester\, WR1 2LA
CATEGORIES:Visits
END:VEVENT
BEGIN:VEVENT
DTSTART;TZID=Europe/London:20240323T100000
DTEND;TZID=Europe/London:20240323T100000
DTSTAMP:20260425T152313
CREATED:20240115T152412Z
LAST-MODIFIED:20240126T152534Z
UID:10000008-1711188000-1711188000@www.malverncivicsociety.org.uk
SUMMARY:Country Walk: Dymock and Daffodils
DESCRIPTION:A stroll through the famous carpets of wild daffodils in Dymock Woods. \n\n\n\nLength 4.5 miles \n\n\n\nFull details and meeting points will be provided nearer the date.
URL:https://www.malverncivicsociety.org.uk/event/country-walk-dymock-and-daffodils/
CATEGORIES:Country Walks
ORGANIZER;CN="Christopher Barnett":MAILTO:countrywalks@malverncivicsociety.org.uk
END:VEVENT
BEGIN:VEVENT
DTSTART;TZID=Europe/London:20240313T120000
DTEND;TZID=Europe/London:20240313T133000
DTSTAMP:20260425T152313
CREATED:20240115T151539Z
LAST-MODIFIED:20240120T121659Z
UID:10000007-1710331200-1710336600@www.malverncivicsociety.org.uk
SUMMARY:Social: Lunch at The Foley Arms (Weatherspoon's)
DESCRIPTION:Take in the spectacular views whilst enjoying socialising in a very popular hostelry with both visitors and locals.
URL:https://www.malverncivicsociety.org.uk/event/social-lunch-at-the-foley-arms-weatherspoons/
LOCATION:The Foley Arms\, The Foley Arms\, 14 Worcester Road\, Malvern\, United Kingdom
CATEGORIES:Socials
END:VEVENT
BEGIN:VEVENT
DTSTART;TZID=Europe/London:20240308T193000
DTEND;TZID=Europe/London:20240308T193000
DTSTAMP:20260425T152313
CREATED:20240117T183716Z
LAST-MODIFIED:20240117T183716Z
UID:10000017-1709926200-1709926200@www.malverncivicsociety.org.uk
SUMMARY:Talk: The Rise and Fall of Dr Gully
DESCRIPTION:To be given by Colin Fenn \n\n\n\nMany in Malvern will have heard of Dr Gully\, where he is best known for the Water Cure. \n\n\n\nBut less well known here are the events of 1876\, when his story took a dramatic turn as he became embroiled in a sensation\, one of London’s great unsolved murder mysteries. \n\n\n\nColin Fenn has followed the plot of London’s ‘Murder at the Priory’ for some twenty years and his talk will reveal the rise and dramatic fall of the famous doctor.
URL:https://www.malverncivicsociety.org.uk/event/talk-the-rise-and-fall-of-dr-gully-2/
LOCATION:Eden Centre\, Eden Centre\, Grovewood Road\, Malvern\, United Kingdom
CATEGORIES:Talks
END:VEVENT
BEGIN:VEVENT
DTSTART;TZID=Europe/London:20240227T103000
DTEND;TZID=Europe/London:20240227T120000
DTSTAMP:20260425T152313
CREATED:20240112T160547Z
LAST-MODIFIED:20240115T153629Z
UID:10000005-1709029800-1709035200@www.malverncivicsociety.org.uk
SUMMARY:Local Visit: Malvern Theatres Talk and Tour 
DESCRIPTION:We will have an exciting opportunity to find out about the future plans for the theatre\, followed by a tour (excluding the cinema).  \nOwn transport / car share.
URL:https://www.malverncivicsociety.org.uk/event/local-visit-malvern-theatres-talk-and-tour/
LOCATION:Malvern Theatres\, Malvern Theatres\, Grange Road\, Malvern\, United Kingdom
CATEGORIES:Visits
END:VEVENT
BEGIN:VEVENT
DTSTART;TZID=Europe/London:20240213T120000
DTEND;TZID=Europe/London:20240213T133000
DTSTAMP:20260425T152313
CREATED:20240112T154215Z
LAST-MODIFIED:20240120T121929Z
UID:10000004-1707825600-1707831000@www.malverncivicsociety.org.uk
SUMMARY:Social: Lunch at Bluebird Tea Rooms
DESCRIPTION:An opportunity to socialise where Elgar once did. Light lunches\, sandwiches and homemade cakes available while you chat.  
URL:https://www.malverncivicsociety.org.uk/event/social-lunch-at-bluebird-tea-rooms/
LOCATION:Bluebird Tea Rooms\, Bluebird Tea Rooms\, 9 Church Street\, Malvern\, WR14 2AA\, United Kingdom
CATEGORIES:Socials
END:VEVENT
BEGIN:VEVENT
DTSTART;TZID=Europe/London:20240209T193000
DTEND;TZID=Europe/London:20240209T193000
DTSTAMP:20260425T152313
CREATED:20240119T111403Z
LAST-MODIFIED:20240119T111403Z
UID:10000024-1707507000-1707507000@www.malverncivicsociety.org.uk
SUMMARY:Talk: Sir Barry Jackson and the Malvern Festival 1929-1937: The Ideal Combination of Event and Environment
DESCRIPTION:To be given by James Kelly. \n\n\n\nThis talk details the history of the Malvern Festival and the role of its founder\, Sir Barry Jackson\, the foremost theatrical impresario of the time and a Malvern resident.  His artistic policy in Malvern focussed on quality drama with an emphasis on the work of George Bernard Shaw.  Although the Festival was only four weeks long\, it was a significant event\, and over 50 plays were presented during the eight years of Jackson’s involvement.
URL:https://www.malverncivicsociety.org.uk/event/talk-sir-barry-jackson-and-the-malvern-festival-1929-1937-the-ideal-combination-of-event-and-environment-2/
LOCATION:Eden Centre\, Eden Centre\, Grovewood Road\, Malvern\, United Kingdom
CATEGORIES:Talks
END:VEVENT
END:VCALENDAR