BEGIN:VCALENDAR
VERSION:2.0
PRODID:-//Malvern Civic Society - ECPv6.15.20//NONSGML v1.0//EN
CALSCALE:GREGORIAN
METHOD:PUBLISH
X-WR-CALNAME:Malvern Civic Society
X-ORIGINAL-URL:https://www.malverncivicsociety.org.uk
X-WR-CALDESC:Events for Malvern Civic Society
REFRESH-INTERVAL;VALUE=DURATION:PT1H
X-Robots-Tag:noindex
X-PUBLISHED-TTL:PT1H
BEGIN:VTIMEZONE
TZID:Europe/London
BEGIN:DAYLIGHT
TZOFFSETFROM:+0000
TZOFFSETTO:+0100
TZNAME:BST
DTSTART:20250330T010000
END:DAYLIGHT
BEGIN:STANDARD
TZOFFSETFROM:+0100
TZOFFSETTO:+0000
TZNAME:GMT
DTSTART:20251026T010000
END:STANDARD
BEGIN:DAYLIGHT
TZOFFSETFROM:+0000
TZOFFSETTO:+0100
TZNAME:BST
DTSTART:20260329T010000
END:DAYLIGHT
BEGIN:STANDARD
TZOFFSETFROM:+0100
TZOFFSETTO:+0000
TZNAME:GMT
DTSTART:20261025T010000
END:STANDARD
BEGIN:DAYLIGHT
TZOFFSETFROM:+0000
TZOFFSETTO:+0100
TZNAME:BST
DTSTART:20270328T010000
END:DAYLIGHT
BEGIN:STANDARD
TZOFFSETFROM:+0100
TZOFFSETTO:+0000
TZNAME:GMT
DTSTART:20271031T010000
END:STANDARD
END:VTIMEZONE
BEGIN:VEVENT
DTSTART;TZID=Europe/London:20261111T110000
DTEND;TZID=Europe/London:20261111T123000
DTSTAMP:20260423T022306
CREATED:20260123T104057Z
LAST-MODIFIED:20260215T214512Z
UID:10000665-1794394800-1794400200@www.malverncivicsociety.org.uk
SUMMARY:Local Visit: The Secrets of Croome Court.
DESCRIPTION:Perhaps you know the Court\, but maybe not as well as John Chugg! John attended the last Coventry family party when he was 4 years old\, and has memories of two liveried footmen. John and Eileen will take us behind the scenes of the Court. We hope for access to the attics\, where interesting furniture is stored\, but this can’t be guaranteed. What’s guaranteed is a fascinating morning \n\n\n\nVisit Leaders: John Chugg and Eileen Clement\, aided by Ann Bartlett. \n\n\n\nMaximum number: 20 in two groups of 10. \n\n\n\nStart: 1100am. \n\n\n\nFinish: 1230 approx. \n\n\n\nTransport: own car/car share encouraged. \n\n\n\nPrice £5 plus booking fee for NT members. £!9.10 plus booking fee for non-NT members.
URL:https://www.malverncivicsociety.org.uk/event/local-visit-the-secrets-of-croome-court/
LOCATION:Croome Court\, high green\, worcester\, WR8 9DW\, United Kingdom
CATEGORIES:Visits
END:VEVENT
END:VCALENDAR