BEGIN:VCALENDAR
VERSION:2.0
PRODID:-//Malvern Civic Society - ECPv6.15.20//NONSGML v1.0//EN
CALSCALE:GREGORIAN
METHOD:PUBLISH
X-ORIGINAL-URL:https://www.malverncivicsociety.org.uk
X-WR-CALDESC:Events for Malvern Civic Society
REFRESH-INTERVAL;VALUE=DURATION:PT1H
X-Robots-Tag:noindex
X-PUBLISHED-TTL:PT1H
BEGIN:VTIMEZONE
TZID:Europe/London
BEGIN:DAYLIGHT
TZOFFSETFROM:+0000
TZOFFSETTO:+0100
TZNAME:BST
DTSTART:20250330T010000
END:DAYLIGHT
BEGIN:STANDARD
TZOFFSETFROM:+0100
TZOFFSETTO:+0000
TZNAME:GMT
DTSTART:20251026T010000
END:STANDARD
BEGIN:DAYLIGHT
TZOFFSETFROM:+0000
TZOFFSETTO:+0100
TZNAME:BST
DTSTART:20260329T010000
END:DAYLIGHT
BEGIN:STANDARD
TZOFFSETFROM:+0100
TZOFFSETTO:+0000
TZNAME:GMT
DTSTART:20261025T010000
END:STANDARD
BEGIN:DAYLIGHT
TZOFFSETFROM:+0000
TZOFFSETTO:+0100
TZNAME:BST
DTSTART:20270328T010000
END:DAYLIGHT
BEGIN:STANDARD
TZOFFSETFROM:+0100
TZOFFSETTO:+0000
TZNAME:GMT
DTSTART:20271031T010000
END:STANDARD
END:VTIMEZONE
BEGIN:VEVENT
DTSTART;TZID=Europe/London:20261006T100000
DTEND;TZID=Europe/London:20261006T113000
DTSTAMP:20260423T005931
CREATED:20260113T112515Z
LAST-MODIFIED:20260113T112710Z
UID:10000641-1791280800-1791286200@www.malverncivicsociety.org.uk
SUMMARY:Brunch at Scene Restaurant (Malvern Theatres)
DESCRIPTION:A chance to catch up on film and theatre news (or anything else) and meet other members. There will also be a warm welcome to anybody thinking of joining the society. \n\n\n\nSocial Leader: Carole Entwistle \n\n\n\nMaximum number: 20 \n\n\n\nFree but pay for your own selection.
URL:https://www.malverncivicsociety.org.uk/event/brunch-at-scene-restaurant-malvern-theatres-2/
LOCATION:Malvern theatres\, Grange Road\, Malvern\, WR14 3HB\, United Kingdom
CATEGORIES:Socials
END:VEVENT
END:VCALENDAR