BEGIN:VCALENDAR
VERSION:2.0
PRODID:-//Malvern Civic Society - ECPv6.15.20//NONSGML v1.0//EN
CALSCALE:GREGORIAN
METHOD:PUBLISH
X-ORIGINAL-URL:https://www.malverncivicsociety.org.uk
X-WR-CALDESC:Events for Malvern Civic Society
REFRESH-INTERVAL;VALUE=DURATION:PT1H
X-Robots-Tag:noindex
X-PUBLISHED-TTL:PT1H
BEGIN:VTIMEZONE
TZID:Europe/London
BEGIN:DAYLIGHT
TZOFFSETFROM:+0000
TZOFFSETTO:+0100
TZNAME:BST
DTSTART:20250330T010000
END:DAYLIGHT
BEGIN:STANDARD
TZOFFSETFROM:+0100
TZOFFSETTO:+0000
TZNAME:GMT
DTSTART:20251026T010000
END:STANDARD
BEGIN:DAYLIGHT
TZOFFSETFROM:+0000
TZOFFSETTO:+0100
TZNAME:BST
DTSTART:20260329T010000
END:DAYLIGHT
BEGIN:STANDARD
TZOFFSETFROM:+0100
TZOFFSETTO:+0000
TZNAME:GMT
DTSTART:20261025T010000
END:STANDARD
BEGIN:DAYLIGHT
TZOFFSETFROM:+0000
TZOFFSETTO:+0100
TZNAME:BST
DTSTART:20270328T010000
END:DAYLIGHT
BEGIN:STANDARD
TZOFFSETFROM:+0100
TZOFFSETTO:+0000
TZNAME:GMT
DTSTART:20271031T010000
END:STANDARD
END:VTIMEZONE
BEGIN:VEVENT
DTSTART;TZID=Europe/London:20260906T000000
DTEND;TZID=Europe/London:20260911T235959
DTSTAMP:20260422T233630
CREATED:20260123T172946Z
LAST-MODIFIED:20260325T101839Z
UID:10000672-1788652800-1789171199@www.malverncivicsociety.org.uk
SUMMARY:Holiday to sights of Kent
DESCRIPTION:This holiday is open to Malvern Civic Society members only. \n\n\n\nOrganised by Clive Hooper\, who should be contacted direct on clive.hooper@hotmail.co.uk.
URL:https://www.malverncivicsociety.org.uk/event/overseas-holiday-to-munich-and-the-castles-and-lakes-of-bavaria/
CATEGORIES:Holiday
END:VEVENT
BEGIN:VEVENT
DTSTART;TZID=Europe/London:20260908T140000
DTEND;TZID=Europe/London:20260908T160000
DTSTAMP:20260422T233630
CREATED:20260122T114622Z
LAST-MODIFIED:20260202T103133Z
UID:10000659-1788876000-1788883200@www.malverncivicsociety.org.uk
SUMMARY:Country Walk: Bredon Hill
DESCRIPTION:Walk Leader:  Christopher Barnett \n\n\n\nThis walk follows the Wychavon Way on to Bredon Hill\, passing Banbury Tower and the stone elephant\, with excellent panoramic views.  \n\n\n\nLength: 4.5 miles \n\n\n\nMeet at St Michael and All Souls Church\, Great Comberton. What3Words pages.engulfing.apartment.  Bookings open 14 February
URL:https://www.malverncivicsociety.org.uk/event/country-walk-bredon-hill/
CATEGORIES:Country Walks
END:VEVENT
END:VCALENDAR