BEGIN:VCALENDAR
VERSION:2.0
PRODID:-//Malvern Civic Society - ECPv6.15.20//NONSGML v1.0//EN
CALSCALE:GREGORIAN
METHOD:PUBLISH
X-WR-CALNAME:Malvern Civic Society
X-ORIGINAL-URL:https://www.malverncivicsociety.org.uk
X-WR-CALDESC:Events for Malvern Civic Society
REFRESH-INTERVAL;VALUE=DURATION:PT1H
X-Robots-Tag:noindex
X-PUBLISHED-TTL:PT1H
BEGIN:VTIMEZONE
TZID:Europe/London
BEGIN:DAYLIGHT
TZOFFSETFROM:+0000
TZOFFSETTO:+0100
TZNAME:BST
DTSTART:20250330T010000
END:DAYLIGHT
BEGIN:STANDARD
TZOFFSETFROM:+0100
TZOFFSETTO:+0000
TZNAME:GMT
DTSTART:20251026T010000
END:STANDARD
BEGIN:DAYLIGHT
TZOFFSETFROM:+0000
TZOFFSETTO:+0100
TZNAME:BST
DTSTART:20260329T010000
END:DAYLIGHT
BEGIN:STANDARD
TZOFFSETFROM:+0100
TZOFFSETTO:+0000
TZNAME:GMT
DTSTART:20261025T010000
END:STANDARD
BEGIN:DAYLIGHT
TZOFFSETFROM:+0000
TZOFFSETTO:+0100
TZNAME:BST
DTSTART:20270328T010000
END:DAYLIGHT
BEGIN:STANDARD
TZOFFSETFROM:+0100
TZOFFSETTO:+0000
TZNAME:GMT
DTSTART:20271031T010000
END:STANDARD
END:VTIMEZONE
BEGIN:VEVENT
DTSTART;TZID=Europe/London:20260814T143000
DTEND;TZID=Europe/London:20260814T160000
DTSTAMP:20260422T213809
CREATED:20260123T174117Z
LAST-MODIFIED:20260124T075416Z
UID:10000673-1786717800-1786723200@www.malverncivicsociety.org.uk
SUMMARY:Local Visit and Talk: Beauchamp Almshouses and St Leonard's Church.
DESCRIPTION:Talk by Duncan Filer and visit to the Almshouses and Church. Learn how this landmark of Malvern’s history is a thriving community. \n\n\n\nVisit Leader; Elaine Tomlinson. \n\n\n\nMaximum number: 25 \n\n\n\nStart: 2.30 pm \n\n\n\nFinish: 4.30 approx \n\n\n\nTransport: own car/car share encouraged because parking is limited. \n\n\n\nPrice £6 plus booking fee. Bookings open 14 February.
URL:https://www.malverncivicsociety.org.uk/event/local-visit-and-talk-beauchamp-almshouses-and-st-leonards-church/
LOCATION:Beauchamp Community\, Malvern\, WR13 5AX\, United Kingdom
CATEGORIES:Visits
END:VEVENT
END:VCALENDAR